BEGIN:VCALENDAR
VERSION:2.0
PRODID:-//Pure Wellness Body And Health - ECPv6.15.20//NONSGML v1.0//EN
CALSCALE:GREGORIAN
METHOD:PUBLISH
X-WR-CALNAME:Pure Wellness Body And Health
X-ORIGINAL-URL:https://purewellnessbody.com
X-WR-CALDESC:Events for Pure Wellness Body And Health
REFRESH-INTERVAL;VALUE=DURATION:PT1H
X-Robots-Tag:noindex
X-PUBLISHED-TTL:PT1H
BEGIN:VTIMEZONE
TZID:America/New_York
BEGIN:DAYLIGHT
TZOFFSETFROM:-0500
TZOFFSETTO:-0400
TZNAME:EDT
DTSTART:20230312T070000
END:DAYLIGHT
BEGIN:STANDARD
TZOFFSETFROM:-0400
TZOFFSETTO:-0500
TZNAME:EST
DTSTART:20231105T060000
END:STANDARD
BEGIN:DAYLIGHT
TZOFFSETFROM:-0500
TZOFFSETTO:-0400
TZNAME:EDT
DTSTART:20240310T070000
END:DAYLIGHT
BEGIN:STANDARD
TZOFFSETFROM:-0400
TZOFFSETTO:-0500
TZNAME:EST
DTSTART:20241103T060000
END:STANDARD
BEGIN:DAYLIGHT
TZOFFSETFROM:-0500
TZOFFSETTO:-0400
TZNAME:EDT
DTSTART:20250309T070000
END:DAYLIGHT
BEGIN:STANDARD
TZOFFSETFROM:-0400
TZOFFSETTO:-0500
TZNAME:EST
DTSTART:20251102T060000
END:STANDARD
BEGIN:DAYLIGHT
TZOFFSETFROM:-0500
TZOFFSETTO:-0400
TZNAME:EDT
DTSTART:20260308T070000
END:DAYLIGHT
BEGIN:STANDARD
TZOFFSETFROM:-0400
TZOFFSETTO:-0500
TZNAME:EST
DTSTART:20261101T060000
END:STANDARD
BEGIN:DAYLIGHT
TZOFFSETFROM:-0500
TZOFFSETTO:-0400
TZNAME:EDT
DTSTART:20270314T070000
END:DAYLIGHT
BEGIN:STANDARD
TZOFFSETFROM:-0400
TZOFFSETTO:-0500
TZNAME:EST
DTSTART:20271107T060000
END:STANDARD
END:VTIMEZONE
BEGIN:VEVENT
DTSTART;TZID=America/New_York:20260619T100000
DTEND;TZID=America/New_York:20260621T180000
DTSTAMP:20260425T105315
CREATED:20260312T221158Z
LAST-MODIFIED:20260312T221239Z
UID:17658-1781863200-1782064800@purewellnessbody.com
SUMMARY:Boonerang Music & Craft Festival\, Boone NC
DESCRIPTION:
URL:https://purewellnessbody.com/event/17658/
LOCATION:Downtown Boone NC\, 567 West King Street Boone\, NC 28607\, Boone\, NC
CATEGORIES:Alcoholic Drinks Available,Bands and music,Bounce House,Craft Event,Music,Pure Wellness Body & Health,Shopping,Shows & Entertainment
ATTACH;FMTTYPE=image/png:https://purewellnessbody.com/wp-content/uploads/2026/03/Screen-Shot-2026-03-12-at-6.10.51-PM.png
ORGANIZER;CN="The Downtown Boone Development Association":MAILTO:lane.moody@townofboone.net
END:VEVENT
BEGIN:VEVENT
DTSTART;TZID=America/New_York:20260523T080000
DTEND;TZID=America/New_York:20260524T170000
DTSTAMP:20260425T105315
CREATED:20240322T010902Z
LAST-MODIFIED:20260319T154721Z
UID:9600-1779523200-1779642000@purewellnessbody.com
SUMMARY:Garden Jubilee 2024\, Hendersonville NC
DESCRIPTION:Garden Jubilee\, one of the largest gardening shows in Western North Carolina\, will be held Saturday\, May 25 & Sunday\, May 26 from 9:00 am to 5:00 pm during Memorial Day weekend. More than 200 plant and craft vendors line Main Street\, from Sixth Avenue to Caswell Street\, transforming the historic downtown area into an seven-block garden wonderland. \nThe two-day garden & plant extravaganza features local and regional nurseries selling thousands of annuals\, perennials\, vegetables\, herbs and hard-to-find plants. Crafters will offer distinctive garden art\, and there will be handmade lawn furniture\, jewelry\, garden tools\, planters\, wind chimes\, birdhouses\, soaps and pottery. Visitors can also learn the latest techniques and tips from gardening experts located throughout the festival as well as presenting on the stage located at the Historic Courthouse \nThis festival is hosted by the Friends of Downtown Hendersonville. \nCheck out the website for parking details and speaker list and times.
URL:https://purewellnessbody.com/event/henersonville-garden-jubilee-2024-hendersonville-nc/
LOCATION:Hendersonville\, NC\, Hendersonville\, NC
CATEGORIES:Educational Seminars,Plants & Flowers,Pure Wellness Body & Health,Shopping,Shows & Entertainment
END:VEVENT
BEGIN:VEVENT
DTSTART;TZID=America/New_York:20260503T120000
DTEND;TZID=America/New_York:20260503T160000
DTSTAMP:20260425T105315
CREATED:20240403T133133Z
LAST-MODIFIED:20260416T012120Z
UID:9629-1777809600-1777824000@purewellnessbody.com
SUMMARY:Pittsboro First Sunday Artisan Fair & Market - May
DESCRIPTION:On the first Sunday of the month from April through December from 12-4 pm\, the Pittsboro Business Association hosts the Pittsboro First Sunday Artisan Fair & Market. This family-friendly event has food trucks and vendors selling art\, jewelry\, textiles\, woodwork\, soaps\, pottery\, and more.
URL:https://purewellnessbody.com/event/pittsboro-first-sunday-artisan-fair-market/
LOCATION:Pittsboro Business Association\, West Street\, Pittsboro\, NC\, United States
CATEGORIES:Music,Pure Wellness Body & Health,Shopping
ATTACH;FMTTYPE=image/png:https://purewellnessbody.com/wp-content/uploads/2024/04/New-logo-option-2-300x240-1.png
END:VEVENT
BEGIN:VEVENT
DTSTART;TZID=America/New_York:20260425T100000
DTEND;TZID=America/New_York:20260426T180000
DTSTAMP:20260425T105315
CREATED:20260226T213107Z
LAST-MODIFIED:20260226T213107Z
UID:17369-1777111200-1777226400@purewellnessbody.com
SUMMARY:Mebane Dogwood Festival
DESCRIPTION:Join us for a weekend of music\, art\, and culture. Explore the vibrant community of local vendors and immerse yourself in the unique experience that is The Mebane Dogwood Festival. \n  \nEnjoy the car show\, 5k run\, golf tournament\, dog dash\, vendors\, crafts\, music\, food\, and kid rides.  A fun day for everyone.
URL:https://purewellnessbody.com/event/mebane-dogwood-festival/
LOCATION:Mebane\, NC\, Address 114 West Clay St\, Mebane\, NC 27302\, United States
CATEGORIES:5K Run,Baked Goods,Bounce House,Car Show,Craft Event,Dog Run,Food Trucks,Golf Tournament,Hand made crafts,Kid Rides,Kids Game Area,Music,Shopping,Shows & Entertainment
ATTACH;FMTTYPE=image/png:https://purewellnessbody.com/wp-content/uploads/2026/02/Screen-Shot-2026-02-26-at-4.21.10-PM.png
END:VEVENT
BEGIN:VEVENT
DTSTART;TZID=America/New_York:20251206T090000
DTEND;TZID=America/New_York:20251206T140000
DTSTAMP:20260425T105315
CREATED:20240618T003925Z
LAST-MODIFIED:20250714T224444Z
UID:9728-1765011600-1765029600@purewellnessbody.com
SUMMARY:Annual Holiday Market Penn House Reidsville
DESCRIPTION:The Annual Holiday Market is again opening at the beautifully restored Penn House in Reidsville.  The Penn House Annual Holiday Market will be better than ever this year! Only hand-crafted items and you will find some amazing gifts for the holidays! This year we will be expanding into our new meeting space so vendors will be in the house\, greenhouse and the new facility! \nBe sure to stop by and start your holiday shopping. You will find unique\, one-of-a-kind gifts for everyone on your list!  And enjoy exploring the Penn House\, a historic home located at Reidsville\, Rockingham County\, North Carolina. The main house was built in 1932\, and is a 2+1⁄2-story\, Colonial Revival style blond brick dwelling. The house consists of the main block; a one-story\, L-shaped wing; a one-story servants’ quarters; and a one-story kitchen wing behind the main block. The front facade features a full-facade\, full-height portico with six Corinthian order columns. It replaced a Prairie School inspired dwelling erected on the site about 1910. \n 
URL:https://purewellnessbody.com/event/annual-holiday-market-penn-house-reidsville/
LOCATION:The Penn House in Reidsville\, 324 Maple Ave\, Reidsville\, North Carolina
CATEGORIES:Baked Goods,Craft Event,Holiday Theme,Pure Wellness Body & Health,Shopping,Specialty Foods
END:VEVENT
BEGIN:VEVENT
DTSTART;TZID=America/New_York:20251128T090000
DTEND;TZID=America/New_York:20251128T170000
DTSTAMP:20260425T105315
CREATED:20230831T000840Z
LAST-MODIFIED:20250714T230048Z
UID:8517-1764320400-1764349200@purewellnessbody.com
SUMMARY:Holiday In the Gardens - Annual Holiday Craft Show at the Ciener Botanical Gardens
DESCRIPTION:It’s here again\, the annual Fall in the Gardens Annual Holiday Craft Show at Ciener Botanical Gardens in Kernersville.  Over 60 different craft\, holiday\, and specialty foods will be both outside in the gardens and inside the garden center.  Come out and shop for all your holiday presents from local crafters and vendors.  Pure Wellness Body will have its pop-up shop open Friday inside.
URL:https://purewellnessbody.com/event/fall-in-the-gardens-annual-fall-craft-show-at-the-ciener-botanical-gardens/
LOCATION:Ciener Woods Botanical Garden\, 215 S. Main Street\, Kernersville\, NC
CATEGORIES:Craft Event,Food Trucks,Gardens,Hand made crafts,Holiday Theme,Pure Wellness Body & Health,Shopping
END:VEVENT
BEGIN:VEVENT
DTSTART;TZID=America/New_York:20251101T100000
DTEND;TZID=America/New_York:20251101T160000
DTSTAMP:20260425T105315
CREATED:20230413T232013Z
LAST-MODIFIED:20250714T225135Z
UID:7519-1761991200-1762012800@purewellnessbody.com
SUMMARY:Annual Holiday Craft Show at the Oak Ridge Park
DESCRIPTION:Holiday fun at the Oak Ridge Park in Oak Ridge\, NC.  Come by and do your holiday shopping with local businesses.  Buy one of a kind unique hand-crafted items.
URL:https://purewellnessbody.com/event/annual-holiday-craft-show-at-the-oak-ridge-park/
LOCATION:Oak Ridge Town Park\, Oak Ridge Town Park off Linville Road\, Oak Ridge\, NC
CATEGORIES:Craft Event,Food Trucks,Park,Pure Wellness Body & Health,Shopping,Specialty Foods
END:VEVENT
BEGIN:VEVENT
DTSTART;VALUE=DATE:20250919
DTEND;VALUE=DATE:20250921
DTSTAMP:20260425T105315
CREATED:20230412T194955Z
LAST-MODIFIED:20250714T224648Z
UID:7461-1758240000-1758412799@purewellnessbody.com
SUMMARY:Eden River Festival
DESCRIPTION:Live concerts all day\, interactive Play Zone\, over 100 artisans and crafters\, food vendors\, historical exhibits\, BMX Show\, Butterfly Encounter\, Chainsaw Carver\, Magician\, Amusements\, Ax Throwing\, Characters\, Sand Art\, Beer Garden\, and lots of specialty food vendors\, drink tents\, and fun. \n1 stage – N\,R\,L Entertainment: Variety 
URL:https://purewellnessbody.com/event/annual-eden-river-festival/
LOCATION:Uptown Eden\, NC\, Uptown\, Eden\, NC
CATEGORIES:Alcoholic Drinks Available,Craft Event,Food Trucks,Music
ATTACH;FMTTYPE=image/jpeg:https://purewellnessbody.com/wp-content/uploads/2023/04/fno_event_39037_image_w480_h271-2551634997.jpg
END:VEVENT
BEGIN:VEVENT
DTSTART;TZID=America/New_York:20241205T180000
DTEND;TZID=America/New_York:20241205T210000
DTSTAMP:20260425T105315
CREATED:20240710T145238Z
LAST-MODIFIED:20240710T145426Z
UID:9753-1733421600-1733432400@purewellnessbody.com
SUMMARY:Ladies Night - Sip & Shop at Golden Antiques
DESCRIPTION:Special Vendors\, Fabulous Finds\, Delicious Food and over 30 Door Prices you can pick from.  Free food\, deserts\, wine and Christmas music. \nCome sip and shop from 6pm to 9pm and bring your friends! \nAt Golden Antiques Mall in Summerfield\, NC right off HW 220.
URL:https://purewellnessbody.com/event/ladies-night-sip-shop-at-golden-antiques/
LOCATION:Golden Antiques\, 4537 US HW 220\, Summerfield\, NC
CATEGORIES:Antiques,Door Prizes,Free food and winie,Pure Wellness Body & Health,Shopping
END:VEVENT
BEGIN:VEVENT
DTSTART;TZID=America/New_York:20241109T110000
DTEND;TZID=America/New_York:20241109T160000
DTSTAMP:20260425T105315
CREATED:20240710T145838Z
LAST-MODIFIED:20240710T145949Z
UID:9760-1731150000-1731168000@purewellnessbody.com
SUMMARY:Mistletoe Market at Golden Antiques Mall in Summerfield
DESCRIPTION:A fun Outdoor/Indoor event with 30 plus Crafters\, Artisans\, and Unique gift vendors helping you to check off that Christmas List! You will easily get that Christmas Spirit going with all the Delicious Food\, Music\, and a Special Visit from Santa Claus!  Enjoy the Christmas music\, themed decor\, and lots of last-minute shopping for the holidays.   \nCome visit the Pure Wellness Body & Health pop up store booth here at Golden Antiques Mall in Summerfield.  Open from 10:30am – 4:30pm.
URL:https://purewellnessbody.com/event/mistletoe-market-at-golden-antiques-mall-in-summerfield/
LOCATION:Golden Antiques\, 4537 US HW 220\, Summerfield\, NC
CATEGORIES:Antiques,Food Trucks,Holiday Theme,Pure Wellness Body & Health,Shopping,Specialty Foods
END:VEVENT
BEGIN:VEVENT
DTSTART;TZID=America/New_York:20241031T150000
DTEND;TZID=America/New_York:20241031T180000
DTSTAMP:20260425T105315
CREATED:20240503T145817Z
LAST-MODIFIED:20240503T150049Z
UID:9677-1730386800-1730397600@purewellnessbody.com
SUMMARY:Elon Farmers' Market
DESCRIPTION:Come shop for all your local greens\, vegetables\, and fruits at the Elon Farmers’ Market. Over 25 different farmers from the Alamance and Guildford counties come each week to supply local\, freshly picked\, seasonal crops. \nOther vendors include fresh sourdough bread\, baked goods\, fresh flowers\, eggs\, meats\, jams and jellies\, specialty gifts\, and Pure Wellness Body Care.  We look forward to seeing you at today’s pop-in. \nThe market is open from April through the end of October from 3pm to 6pm.  It is set up at the Elon Community Church parking lot located off W. College Ave
URL:https://purewellnessbody.com/event/elon-farmers-market-4/
LOCATION:Town of Elon Farmers Market\, Elon Community Church parking lot located off W. College Ave\, Elon\, NC
CATEGORIES:Farmer's Market
END:VEVENT
BEGIN:VEVENT
DTSTART;TZID=America/New_York:20241022T100000
DTEND;TZID=America/New_York:20241022T140000
DTSTAMP:20260425T105315
CREATED:20240503T143749Z
LAST-MODIFIED:20240503T143749Z
UID:8494-1729591200-1729605600@purewellnessbody.com
SUMMARY:Elon University Health Fair
DESCRIPTION:Learn about various health options for you and your family\, from various insurance options\, holistic care\, healthy foods\, educational classes and lectures\, to holistic body care\, and specialized footwear.  This is an Elon campus event on the grounds near the Alumni gym.  It is open to the public.
URL:https://purewellnessbody.com/event/elon-university-health-fair/
LOCATION:Elon University\, North Williamson Ave\, Alumni lawn\, Elon\, NC
CATEGORIES:Educational Seminars,Health & wellness booths,Pure Wellness Body & Health
END:VEVENT
BEGIN:VEVENT
DTSTART;TZID=America/New_York:20241019T150000
DTEND;TZID=America/New_York:20241019T210000
DTSTAMP:20260425T105315
CREATED:20240618T001957Z
LAST-MODIFIED:20240618T002109Z
UID:9711-1729350000-1729371600@purewellnessbody.com
SUMMARY:FAB Festival in Downtown Reidsville
DESCRIPTION:Reidsville FAB Festival – Join us for our annual Food\, Art and Brew Festival featuring The Band of Oz! The fun starts at 11am with the band going on strong from 5-7pm. Bring your family and friends and enjoy the show. Free festival! \nEnjoy watching the Bank of Oz playing in downtown Reidsville marketplace. \nSaturday\, October 19\, 2024\nFood\, Art & Brew\n3pm-9pm\nReidsville\, NC
URL:https://purewellnessbody.com/event/fab-festival/
LOCATION:Reidsville Chamber of Commerce\, 303 S. Scales St Reidsville NC\, Reidsville
CATEGORIES:Bands and music,Food Trucks,Pure Wellness Body & Health,Shopping
END:VEVENT
BEGIN:VEVENT
DTSTART;TZID=America/New_York:20241005T090000
DTEND;TZID=America/New_York:20241005T150000
DTSTAMP:20260425T105315
CREATED:20240321T182010Z
LAST-MODIFIED:20240503T151350Z
UID:9578-1728118800-1728140400@purewellnessbody.com
SUMMARY:Garden Craft Show at the Summerfield Garden Outlet
DESCRIPTION:This show is an all-hand-made crafting show. There will be 35 craft vendors along with food vendors. Great show and lots of varieties of crafts including items for your home and garden decor.\n\nTwice a year we put on a Craft Show with all hand-crafting vendors. No Direct Sell booths here just local handmade crafts great for holiday gift giving. We have 35 craft vendors and food vendors. Come check us out and support your local privately owned businesses.\n\nStarts at 9am sharp on Saturday\, October 5th.  Come to shop our spring plants collection\, lots of flowers and plants on sale.\n 
URL:https://purewellnessbody.com/event/9578/
LOCATION:Summerfield Garden Outlet\, 5124 US Highway 220 N\, Summerfield\, NC
CATEGORIES:Food Trucks,Gardens,Plants & Flowers,Pure Wellness Body & Health,Shopping
END:VEVENT
BEGIN:VEVENT
DTSTART;TZID=America/New_York:20240926T150000
DTEND;TZID=America/New_York:20240926T180000
DTSTAMP:20260425T105315
CREATED:20240503T145637Z
LAST-MODIFIED:20240917T161722Z
UID:9675-1727362800-1727373600@purewellnessbody.com
SUMMARY:Elon Farmers' Market
DESCRIPTION:Come shop for all your local greens\, vegetables\, and fruits at the Elon Farmers’ Market. Over 25 different farmers from the Alamance and Guildford counties come each week to supply local\, freshly picked\, seasonal crops.  Other vendors include fresh sourdough bread\, baked goods\, fresh flowers\, eggs\, meats\, jams and jellies\, and Pure Wellness Body Care.  We look forward to seeing you at today’s pop-in. \nThe market is open from April through the end of October from 3pm to 6pm.  It is set up at the Elon Community Church parking lot located off W. College Ave
URL:https://purewellnessbody.com/event/elon-farmers-market-3/
LOCATION:Town of Elon Farmers Market\, Elon Community Church parking lot located off W. College Ave\, Elon\, NC
CATEGORIES:Farmer's Market
END:VEVENT
BEGIN:VEVENT
DTSTART;TZID=America/New_York:20240620T150000
DTEND;TZID=America/New_York:20240620T180000
DTSTAMP:20260425T105315
CREATED:20240926T145445Z
LAST-MODIFIED:20240617T155448Z
UID:9671-1718895600-1718906400@purewellnessbody.com
SUMMARY:Elon Farmers' Market
DESCRIPTION:Come shop for all your local greens\, vegetables\, and fruits at the Elon Farmers’ Market. Over 25 different farmers from the Alamance and Guildford counties come each week to supply local\, freshly picked\, seasonal crops.  Other vendors include fresh sourdough bread\, baked goods\, fresh flowers\, eggs\, meats\, jams and jellies\, and Pure Wellness Body Care.  We look forward to seeing you at today’s pop-in. \nThe market is open from April through the end of October from 3pm to 6pm.  It is set up at the Elon Community Church parking lot located off W. College Ave
URL:https://purewellnessbody.com/event/elon-farmers-market-2/
LOCATION:Town of Elon Farmers Market\, Elon Community Church parking lot located off W. College Ave\, Elon\, NC
CATEGORIES:Farmer's Market
END:VEVENT
BEGIN:VEVENT
DTSTART;TZID=America/New_York:20240613T150000
DTEND;TZID=America/New_York:20240613T180000
DTSTAMP:20260425T105315
CREATED:20240503T144725Z
LAST-MODIFIED:20240503T145509Z
UID:9664-1718290800-1718301600@purewellnessbody.com
SUMMARY:Elon Farmers' Market
DESCRIPTION:Come shop for all your local greens\, vegetables\, and fruits at the Elon Farmers’ Market. Over 25 different farmers from the Alamance and Guildford counties come each week to supply local\, freshly picked\, seasonal crops.  Other vendors include fresh sourdough bread\, baked goods\, fresh flowers\, eggs\, meats\, jams and jellies\, and Pure Wellness Body Care.  We look forward to seeing you at today’s pop-in. \nThe market is open from April through the end of October from 3pm to 6pm.  It is set up at the Elon Community Church parking lot located off W. College Ave
URL:https://purewellnessbody.com/event/elon-farmers-market/
LOCATION:Town of Elon Farmers Market\, Elon Community Church parking lot located off W. College Ave\, Elon\, NC
CATEGORIES:Farmer's Market
END:VEVENT
BEGIN:VEVENT
DTSTART;TZID=America/New_York:20240608T090000
DTEND;TZID=America/New_York:20240608T170000
DTSTAMP:20260425T105315
CREATED:20230412T173508Z
LAST-MODIFIED:20240322T011636Z
UID:7369-1717837200-1717866000@purewellnessbody.com
SUMMARY:June 2024 Botanical Garden Summer Craft Show
DESCRIPTION:Indoor and outdoor event with craft vendors and food\, enjoy the beauty of the botanical gardens.  Paul J. Ciener Botanical Garden Summer Craft Show is a fun outdoor event with food trucks\, vendors\, and local crafters\, and specialty foods.  Come visit our booth and see our new products for 2024.
URL:https://purewellnessbody.com/event/garden-summer-craft-show-paul-j-ciener-botanical-garden/
LOCATION:Ciener Woods Botanical Garden\, 215 S. Main Street\, Kernersville\, NC
CATEGORIES:Baked Goods,Craft Event,Food Trucks,Gardens,Hand made crafts,Plants & Flowers,Pure Wellness Body & Health,Shopping
END:VEVENT
BEGIN:VEVENT
DTSTART;TZID=America/New_York:20240511T080000
DTEND;TZID=America/New_York:20240512T170000
DTSTAMP:20260425T105315
CREATED:20240322T003910Z
LAST-MODIFIED:20240322T004135Z
UID:9595-1715414400-1715533200@purewellnessbody.com
SUMMARY:Lake Lure Arts & Crafts Spring Festival
DESCRIPTION:Hickory Nut Gorge Outreach proudly presents the Lake Lure Arts & Crafts Festivals. This is great a way for Artisans and Crafters to come to beautiful Lake Lure and sell their handmade products to visitors who come to the area. These products include fine arts graphics\, photography\, jewelry\, glass/pottery\, wood\, textiles\, leather\, and food.  See and buy craft and art by 90+ artists from many different disciplines.. Also enjoy entertainment\, food vendors and the beauty of the lake. Free admission. 119 Arcade St\, Lake Lure\n\nDays/­Hours Open: Sat 10am-5pm\, Sun 10am-4pm\nAddress: 19 Arcade Street\, Lake Lure\, NC 28746\nOther Activities: kids’ zone\, demonstrations\, opening ceremony-welcome
URL:https://purewellnessbody.com/event/lake-lure-arts-crafts-spring-festival/
LOCATION:Lake Lure\, 19 Arcade Street\, Lake Lure\, NC 28746\, Lake Luke\, North Carolina\, 28746-9852
CATEGORIES:Craft Event,Music,Park,Pure Wellness Body & Health
ATTACH;FMTTYPE=image/jpeg:https://purewellnessbody.com/wp-content/uploads/2024/03/5ABB33E3-A840-4334-AFCF-A4ADAD0A42AF-scaled-3967857164.jpg
END:VEVENT
BEGIN:VEVENT
DTSTART;TZID=America/New_York:20240503T180000
DTEND;TZID=America/New_York:20240504T200000
DTSTAMP:20260425T105315
CREATED:20240322T002425Z
LAST-MODIFIED:20240322T002425Z
UID:9590-1714759200-1714852800@purewellnessbody.com
SUMMARY:31st Annual Kernersville Folly\, Downtown Kernersville
DESCRIPTION:The Kernersville Spring Folly is a huge event in Kernersville\, North Carolina that attracts approximately 50\,000 visitors from all over for a weekend of wholesome family entertainment.  Festival starts Friday night at 6pm with various bands\, vendors\, musicians\, carnival rides and much more will crowd the streets of Downtown Kernersville until 10pm.\n\nOn Saturday the festival will be in full swing starting at 10am to 8pm.\n\nTo finish on Sunday the carnival rides\, fair foods and a craft market will remain open at Harmon Park for the final day of the Spring Folly. Hours are 1pm to 6pm on Sunday. \n\n\nPure Wellness Body and Health will have a booth set up in front of our store MisMatch Boutique- 128 West Mountain street just off Main Street down from the ‘All Things Yummy’ cupcake shop.  Plus come in and check out all the fashions from MisMatch Boutique.
URL:https://purewellnessbody.com/event/31st-annual-kernersville-folly-downtown-kernersville/
LOCATION:Downtown Kernersville\, 136 E Mountain St Kernersville\, NC\, United States\, North Carolina 27284
CATEGORIES:Alcoholic Drinks Available,Baked Goods,Bounce House,Carnaval foods,Craft Event,Kids Game Area,Music,Pure Wellness Body & Health,Shopping,Shows & Entertainment
END:VEVENT
BEGIN:VEVENT
DTSTART;TZID=America/New_York:20240427T100000
DTEND;TZID=America/New_York:20240427T170000
DTSTAMP:20260425T105315
CREATED:20240321T230137Z
LAST-MODIFIED:20240321T230158Z
UID:9584-1714212000-1714237200@purewellnessbody.com
SUMMARY:Spring into Madison Festival\, Downtown Madison
DESCRIPTION:Artisans\, Antiques\, Food\, Crafters\, Music – Sponsored by the downtown Madison Merchants Guild \nLocated in downtown Madison\, NC. 10am – 5pm Saturday\, April 27th \nLots of fun and lots of shopping opportunities. Come see our Pure Wellness Body & Health booth near Rachel Blue’s Boutique on main street\, one of favorite vintage retail stores that carry Pure Wellness Body products. \n\n\n\nOur booth will be in front of Rachel Blue Boutique at:\n126 West Murphy St\, Madison\, NC\, United States\, North Carolina
URL:https://purewellnessbody.com/event/spring-into-madison-festival/
LOCATION:Downtown Madision\, North Carolina\, 126 West Murphy St\, Madison\, NC\, United States\, North Carolina
CATEGORIES:Antiques,Baked Goods,Craft Event,Kids Game Area,Music,Pure Wellness Body & Health,Shopping
END:VEVENT
END:VCALENDAR