BEGIN:VCALENDAR
VERSION:2.0
PRODID:-//Pure Wellness Body And Health - ECPv6.15.20//NONSGML v1.0//EN
CALSCALE:GREGORIAN
METHOD:PUBLISH
X-ORIGINAL-URL:https://purewellnessbody.com
X-WR-CALDESC:Events for Pure Wellness Body And Health
REFRESH-INTERVAL;VALUE=DURATION:PT1H
X-Robots-Tag:noindex
X-PUBLISHED-TTL:PT1H
BEGIN:VTIMEZONE
TZID:America/New_York
BEGIN:DAYLIGHT
TZOFFSETFROM:-0500
TZOFFSETTO:-0400
TZNAME:EDT
DTSTART:20250309T070000
END:DAYLIGHT
BEGIN:STANDARD
TZOFFSETFROM:-0400
TZOFFSETTO:-0500
TZNAME:EST
DTSTART:20251102T060000
END:STANDARD
BEGIN:DAYLIGHT
TZOFFSETFROM:-0500
TZOFFSETTO:-0400
TZNAME:EDT
DTSTART:20260308T070000
END:DAYLIGHT
BEGIN:STANDARD
TZOFFSETFROM:-0400
TZOFFSETTO:-0500
TZNAME:EST
DTSTART:20261101T060000
END:STANDARD
BEGIN:DAYLIGHT
TZOFFSETFROM:-0500
TZOFFSETTO:-0400
TZNAME:EDT
DTSTART:20270314T070000
END:DAYLIGHT
BEGIN:STANDARD
TZOFFSETFROM:-0400
TZOFFSETTO:-0500
TZNAME:EST
DTSTART:20271107T060000
END:STANDARD
END:VTIMEZONE
BEGIN:VEVENT
DTSTART;TZID=America/New_York:20260815T100000
DTEND;TZID=America/New_York:20260815T170000
DTSTAMP:20260425T064955
CREATED:20240503T151143Z
LAST-MODIFIED:20260226T211917Z
UID:9680-1786788000-1786813200@purewellnessbody.com
SUMMARY:Annual Honeybee Festival in Kernersville
DESCRIPTION:Come to the 2026 Honeybee Festival!! It hosts various craft\, non-profit\, and commercial vendors\, as well as food for you to much on while you shop! Fourth of July Park is the place to “bee” for a FREE festival of concerts\, crafts\, food and kid activities. \nThe Kernersville Honeybee Festival\, presented by Cone Health\, is now in its 40th year and has been a long-time family tradition. On March 5th\, 1973\, Brady Mullinax\, a citizen of Kernersville\, began his effort to distinguish the honeybee as our state insect. After a trip to our state capital\, a bill was introduced in the Senate by Betty Ann Wilkie and in the House by E. Lawrence Davis.  The honeybee became North Carolina’s official state insect. \nEnjoy live music\, food trucks\, over 100 different local crafters\, kid bouncy houses\, bee education\, local delicious bee honey and products\, plus the beauty of the 4th of July park in the heart of Kernersville.  Lots of parking but get here early to enjoy all the events. \n 
URL:https://purewellnessbody.com/event/annual-honeybee-festival-in-kernersville/
LOCATION:Fourth of July Park\, Kernersville\, 702 W. Mountain Street\, Kernersville\, NC
CATEGORIES:Baked Goods,Bounce House,Craft Event,Food Trucks,Kids Game Area,Local honey,Music,Pure Wellness Body & Health,Shopping
ATTACH;FMTTYPE=image/jpeg:https://purewellnessbody.com/wp-content/uploads/2024/05/fno_event_37899_image_w480_h271.jpg
END:VEVENT
BEGIN:VEVENT
DTSTART;TZID=America/New_York:20260828T080000
DTEND;TZID=America/New_York:20260831T180000
DTSTAMP:20260425T064955
CREATED:20240618T001135Z
LAST-MODIFIED:20260226T213459Z
UID:9707-1787904000-1788199200@purewellnessbody.com
SUMMARY:NC Henderson Apple Festival - Labor Day Weekend
DESCRIPTION:Bushels of Fun: A Festival Tradition \n\n\nLots of events\, classes\, bands\, and apples. Tons of apples.  Apple pies\, apple sauce\, apple fritters\, apple ice cream\, and just plain-eating apples.  Download the event map to see where all the activities are happening.\n\nLook at all the events going on Friday-\n\n\nKiwanis Pancake Breakfast\n7 am-10 am\nFirst United Methodist Church\n204 6th Avenue W\nHendersonville\, NC 28739\nTickets: $10.00 per person\, all you can eat. Children 6 and under are free. \nApple Recipe Contest\n1:15 pm\n1 Historic Courthouse Square\nHendersonville\, NC 28792 \nApple Festival Opening Ceremony\n2:15 pm\n1 Historic Courthouse Square\nHendersonville\, NC 28792 \nApple Growers/Beekeepers Educational Booth\n10 am-8 pm\nMain Street between 5th Ave & 6th Ave\nHendersonville\, NC 28792 \nHenderson County Heritage Museum\n10 am-5 pm\n1 Historic Courthouse Sq.\, Ste 4\nHendersonville\, NC 28792 \nNorth Carolina Apple Festival Downtown Street Fair\n10 am-10pm \nHistoric Downtown Hendersonville Merchants Sidewalk Sales\n10 am-6 pm \nWells Fargo Kiddie Carnival\n12 pm-8 pm\n301 S. Main St\nHendersonville\, NC 28792\nTickets: $1.00-$5.00 per activity. Sponsored by Wells Fargo Bank. \nMineral & Lapidary Museum Open House\n10 am-6 pm\n400 N Main St.\nHendersonville\, NC 28792 \n41st Annual Gem & Mineral Spectacular\n10 am-6 pm\nWhitmire Activity Bldg.\, 310 Lily Pond Rd.\nHendersonville\, NC 28792 \nVintage Tees at Piggy’s & Harry’s\n11 am-8 pm\n102 Duncan Hill Rd\nHendersonville\, NC 28792 \nLaurel Park Village Shopping Center Sidewalk Sales\, Car Show and Music Venue\nUS Hwy 64 W SIDEWALK SALE\n10 am-5 pm \nWNC Air Museum Open House and Air Craft Rides\n10 am-5 pm\n1340 E Gilbert St\nHendersonville\, NC 28792 \nMusic by Buddy K Band\n6:30 pm-8:30 pm\n1 Historic Courthouse Square\nHendersonville\, NC 28792 \n\n\n\n\n\n\n\n\n\nStroll through downtown Hendersonville and experience the heart of the festival! Open Friday through Monday\, the Street Fair brings together: \n\nFreshly picked apples and apple treats (slushies\, fried pies\, donuts\, etc.) from local growers\nArts & crafts vendors showcasing handmade goods\nChildren’s Activities\nDelicious festival food\nLive music & entertainment for all ages\n\nStreet Fair Hours: \n\nFriday: 10 AM – 9:30 PM\nSaturday & Sunday: 10 AM – 9:30 PM\nMonday: 10 AM – until the parade ends
URL:https://purewellnessbody.com/event/annual-nc-henderson-apple-festival-labor-day-weekend/
LOCATION:Hendersonville\, NC\, Hendersonville\, NC
CATEGORIES:Alcoholic Drinks Available,Antiques,Apples,Baked Goods,Bands and music,Carnaval foods,Craft Event,Food Trucks,Hand made crafts,Holiday Theme,Horses and animals,Parade,Pure Wellness Body & Health,Shopping
ATTACH;FMTTYPE=image/png:https://purewellnessbody.com/wp-content/uploads/2024/06/Screen-Shot-2025-07-14-at-6.49.56-PM.png
END:VEVENT
END:VCALENDAR