BEGIN:VCALENDAR
VERSION:2.0
PRODID:-//Pure Wellness Body And Health - ECPv6.15.20//NONSGML v1.0//EN
CALSCALE:GREGORIAN
METHOD:PUBLISH
X-ORIGINAL-URL:https://purewellnessbody.com
X-WR-CALDESC:Events for Pure Wellness Body And Health
REFRESH-INTERVAL;VALUE=DURATION:PT1H
X-Robots-Tag:noindex
X-PUBLISHED-TTL:PT1H
BEGIN:VTIMEZONE
TZID:America/New_York
BEGIN:DAYLIGHT
TZOFFSETFROM:-0500
TZOFFSETTO:-0400
TZNAME:EDT
DTSTART:20250309T070000
END:DAYLIGHT
BEGIN:STANDARD
TZOFFSETFROM:-0400
TZOFFSETTO:-0500
TZNAME:EST
DTSTART:20251102T060000
END:STANDARD
BEGIN:DAYLIGHT
TZOFFSETFROM:-0500
TZOFFSETTO:-0400
TZNAME:EDT
DTSTART:20260308T070000
END:DAYLIGHT
BEGIN:STANDARD
TZOFFSETFROM:-0400
TZOFFSETTO:-0500
TZNAME:EST
DTSTART:20261101T060000
END:STANDARD
BEGIN:DAYLIGHT
TZOFFSETFROM:-0500
TZOFFSETTO:-0400
TZNAME:EDT
DTSTART:20270314T070000
END:DAYLIGHT
BEGIN:STANDARD
TZOFFSETFROM:-0400
TZOFFSETTO:-0500
TZNAME:EST
DTSTART:20271107T060000
END:STANDARD
END:VTIMEZONE
BEGIN:VEVENT
DTSTART;TZID=America/New_York:20261017T100000
DTEND;TZID=America/New_York:20261017T160000
DTSTAMP:20260425T071759
CREATED:20260324T150942Z
LAST-MODIFIED:20260324T150942Z
UID:17838-1792231200-1792252800@purewellnessbody.com
SUMMARY:Pinehurst\, NC Holly Arts & Crafts Festival
DESCRIPTION:Join us for the Holly Arts & Crafts Festival. Support the livelihood of our businesses\, local juried pop-up vendors\, and restaurants! The festival combines the talents of over 200 handcrafters in a variety of genres. Downtown boutiques\, shops\, and restaurants offer specials and sales.\nFood court and family picnic area at Tufts Memorial Park. \n \n  \nPublic Parking Lots:\nGravel lot at Village Green/Tufts Park: 1 Village Green Rd W\, Pinehurst\, NC \nGravel lot at Dogwood Rd: 50 Dogwood Rd\, Pinehurst\, NC \nAdditional Parking with FREE shuttle provided by Kirk Tours & Limousine to and from Rassie Wicker Park. \nRassie Wicker Park: 10 Rassie Wicker Drive\, Pinehurst\, NC
URL:https://purewellnessbody.com/event/pinehurst-nc-holly-arts-crafts-festival/
LOCATION:Pinehurst NC\, 6 Chinquapin Road\, Pinehurst\, NC\, 28374
CATEGORIES:Food Trucks,Free parking,Gardens,Hand made crafts,Local honey,Music,Pure Wellness Body & Health,Shopping
ATTACH;FMTTYPE=image/jpeg:https://purewellnessbody.com/wp-content/uploads/2026/03/fno_event_38480_image_w480_h271-825286814.jpg
END:VEVENT
END:VCALENDAR