BEGIN:VCALENDAR
VERSION:2.0
PRODID:-//Pure Wellness Body And Health - ECPv6.15.20//NONSGML v1.0//EN
CALSCALE:GREGORIAN
METHOD:PUBLISH
X-WR-CALNAME:Pure Wellness Body And Health
X-ORIGINAL-URL:https://purewellnessbody.com
X-WR-CALDESC:Events for Pure Wellness Body And Health
REFRESH-INTERVAL;VALUE=DURATION:PT1H
X-Robots-Tag:noindex
X-PUBLISHED-TTL:PT1H
BEGIN:VTIMEZONE
TZID:America/New_York
BEGIN:DAYLIGHT
TZOFFSETFROM:-0500
TZOFFSETTO:-0400
TZNAME:EDT
DTSTART:20230312T070000
END:DAYLIGHT
BEGIN:STANDARD
TZOFFSETFROM:-0400
TZOFFSETTO:-0500
TZNAME:EST
DTSTART:20231105T060000
END:STANDARD
BEGIN:DAYLIGHT
TZOFFSETFROM:-0500
TZOFFSETTO:-0400
TZNAME:EDT
DTSTART:20240310T070000
END:DAYLIGHT
BEGIN:STANDARD
TZOFFSETFROM:-0400
TZOFFSETTO:-0500
TZNAME:EST
DTSTART:20241103T060000
END:STANDARD
BEGIN:DAYLIGHT
TZOFFSETFROM:-0500
TZOFFSETTO:-0400
TZNAME:EDT
DTSTART:20250309T070000
END:DAYLIGHT
BEGIN:STANDARD
TZOFFSETFROM:-0400
TZOFFSETTO:-0500
TZNAME:EST
DTSTART:20251102T060000
END:STANDARD
BEGIN:DAYLIGHT
TZOFFSETFROM:-0500
TZOFFSETTO:-0400
TZNAME:EDT
DTSTART:20260308T070000
END:DAYLIGHT
BEGIN:STANDARD
TZOFFSETFROM:-0400
TZOFFSETTO:-0500
TZNAME:EST
DTSTART:20261101T060000
END:STANDARD
END:VTIMEZONE
BEGIN:VEVENT
DTSTART;TZID=America/New_York:20251206T090000
DTEND;TZID=America/New_York:20251206T140000
DTSTAMP:20260424T232220
CREATED:20240618T003925Z
LAST-MODIFIED:20250714T224444Z
UID:9728-1765011600-1765029600@purewellnessbody.com
SUMMARY:Annual Holiday Market Penn House Reidsville
DESCRIPTION:The Annual Holiday Market is again opening at the beautifully restored Penn House in Reidsville.  The Penn House Annual Holiday Market will be better than ever this year! Only hand-crafted items and you will find some amazing gifts for the holidays! This year we will be expanding into our new meeting space so vendors will be in the house\, greenhouse and the new facility! \nBe sure to stop by and start your holiday shopping. You will find unique\, one-of-a-kind gifts for everyone on your list!  And enjoy exploring the Penn House\, a historic home located at Reidsville\, Rockingham County\, North Carolina. The main house was built in 1932\, and is a 2+1⁄2-story\, Colonial Revival style blond brick dwelling. The house consists of the main block; a one-story\, L-shaped wing; a one-story servants’ quarters; and a one-story kitchen wing behind the main block. The front facade features a full-facade\, full-height portico with six Corinthian order columns. It replaced a Prairie School inspired dwelling erected on the site about 1910. \n 
URL:https://purewellnessbody.com/event/annual-holiday-market-penn-house-reidsville/
LOCATION:The Penn House in Reidsville\, 324 Maple Ave\, Reidsville\, North Carolina
CATEGORIES:Baked Goods,Craft Event,Holiday Theme,Pure Wellness Body & Health,Shopping,Specialty Foods
END:VEVENT
BEGIN:VEVENT
DTSTART;TZID=America/New_York:20251128T090000
DTEND;TZID=America/New_York:20251128T170000
DTSTAMP:20260424T232220
CREATED:20230831T000840Z
LAST-MODIFIED:20250714T230048Z
UID:8517-1764320400-1764349200@purewellnessbody.com
SUMMARY:Holiday In the Gardens - Annual Holiday Craft Show at the Ciener Botanical Gardens
DESCRIPTION:It’s here again\, the annual Fall in the Gardens Annual Holiday Craft Show at Ciener Botanical Gardens in Kernersville.  Over 60 different craft\, holiday\, and specialty foods will be both outside in the gardens and inside the garden center.  Come out and shop for all your holiday presents from local crafters and vendors.  Pure Wellness Body will have its pop-up shop open Friday inside.
URL:https://purewellnessbody.com/event/fall-in-the-gardens-annual-fall-craft-show-at-the-ciener-botanical-gardens/
LOCATION:Ciener Woods Botanical Garden\, 215 S. Main Street\, Kernersville\, NC
CATEGORIES:Craft Event,Food Trucks,Gardens,Hand made crafts,Holiday Theme,Pure Wellness Body & Health,Shopping
END:VEVENT
BEGIN:VEVENT
DTSTART;TZID=America/New_York:20241109T110000
DTEND;TZID=America/New_York:20241109T160000
DTSTAMP:20260424T232220
CREATED:20240710T145838Z
LAST-MODIFIED:20240710T145949Z
UID:9760-1731150000-1731168000@purewellnessbody.com
SUMMARY:Mistletoe Market at Golden Antiques Mall in Summerfield
DESCRIPTION:A fun Outdoor/Indoor event with 30 plus Crafters\, Artisans\, and Unique gift vendors helping you to check off that Christmas List! You will easily get that Christmas Spirit going with all the Delicious Food\, Music\, and a Special Visit from Santa Claus!  Enjoy the Christmas music\, themed decor\, and lots of last-minute shopping for the holidays.   \nCome visit the Pure Wellness Body & Health pop up store booth here at Golden Antiques Mall in Summerfield.  Open from 10:30am – 4:30pm.
URL:https://purewellnessbody.com/event/mistletoe-market-at-golden-antiques-mall-in-summerfield/
LOCATION:Golden Antiques\, 4537 US HW 220\, Summerfield\, NC
CATEGORIES:Antiques,Food Trucks,Holiday Theme,Pure Wellness Body & Health,Shopping,Specialty Foods
END:VEVENT
END:VCALENDAR