BEGIN:VCALENDAR
VERSION:2.0
PRODID:-//Pure Wellness Body And Health - ECPv6.15.20//NONSGML v1.0//EN
CALSCALE:GREGORIAN
METHOD:PUBLISH
X-WR-CALNAME:Pure Wellness Body And Health
X-ORIGINAL-URL:https://purewellnessbody.com
X-WR-CALDESC:Events for Pure Wellness Body And Health
REFRESH-INTERVAL;VALUE=DURATION:PT1H
X-Robots-Tag:noindex
X-PUBLISHED-TTL:PT1H
BEGIN:VTIMEZONE
TZID:America/New_York
BEGIN:DAYLIGHT
TZOFFSETFROM:-0500
TZOFFSETTO:-0400
TZNAME:EDT
DTSTART:20250309T070000
END:DAYLIGHT
BEGIN:STANDARD
TZOFFSETFROM:-0400
TZOFFSETTO:-0500
TZNAME:EST
DTSTART:20251102T060000
END:STANDARD
BEGIN:DAYLIGHT
TZOFFSETFROM:-0500
TZOFFSETTO:-0400
TZNAME:EDT
DTSTART:20260308T070000
END:DAYLIGHT
BEGIN:STANDARD
TZOFFSETFROM:-0400
TZOFFSETTO:-0500
TZNAME:EST
DTSTART:20261101T060000
END:STANDARD
BEGIN:DAYLIGHT
TZOFFSETFROM:-0500
TZOFFSETTO:-0400
TZNAME:EDT
DTSTART:20270314T070000
END:DAYLIGHT
BEGIN:STANDARD
TZOFFSETFROM:-0400
TZOFFSETTO:-0500
TZNAME:EST
DTSTART:20271107T060000
END:STANDARD
END:VTIMEZONE
BEGIN:VEVENT
DTSTART;TZID=America/New_York:20260912T090000
DTEND;TZID=America/New_York:20260912T160000
DTSTAMP:20260425T063025
CREATED:20260319T153251Z
LAST-MODIFIED:20260319T154700Z
UID:17683-1789203600-1789228800@purewellnessbody.com
SUMMARY:Southern Junk - Fall Vendor Market - Second Saturday in September
DESCRIPTION:Come celebrate fall with over 60 vendors\, great food\, and live music. Free Parking and Admission!
URL:https://purewellnessbody.com/event/southern-junk-fall-vendor-market/
LOCATION:Southern Junk Store\, Jamestown NC\, 110 Wade Street\, Jamestown\, NC
CATEGORIES:Antiques,Baked Goods,Craft Event,Free parking,Hand made crafts
ATTACH;FMTTYPE=image/jpeg:https://purewellnessbody.com/wp-content/uploads/2026/03/6734bf1a85021.image-2319333641.jpg
END:VEVENT
END:VCALENDAR