BEGIN:VCALENDAR
VERSION:2.0
PRODID:-//Pure Wellness Body And Health - ECPv6.15.20//NONSGML v1.0//EN
CALSCALE:GREGORIAN
METHOD:PUBLISH
X-WR-CALNAME:Pure Wellness Body And Health
X-ORIGINAL-URL:https://purewellnessbody.com
X-WR-CALDESC:Events for Pure Wellness Body And Health
REFRESH-INTERVAL;VALUE=DURATION:PT1H
X-Robots-Tag:noindex
X-PUBLISHED-TTL:PT1H
BEGIN:VTIMEZONE
TZID:America/New_York
BEGIN:DAYLIGHT
TZOFFSETFROM:-0500
TZOFFSETTO:-0400
TZNAME:EDT
DTSTART:20230312T070000
END:DAYLIGHT
BEGIN:STANDARD
TZOFFSETFROM:-0400
TZOFFSETTO:-0500
TZNAME:EST
DTSTART:20231105T060000
END:STANDARD
BEGIN:DAYLIGHT
TZOFFSETFROM:-0500
TZOFFSETTO:-0400
TZNAME:EDT
DTSTART:20240310T070000
END:DAYLIGHT
BEGIN:STANDARD
TZOFFSETFROM:-0400
TZOFFSETTO:-0500
TZNAME:EST
DTSTART:20241103T060000
END:STANDARD
BEGIN:DAYLIGHT
TZOFFSETFROM:-0500
TZOFFSETTO:-0400
TZNAME:EDT
DTSTART:20250309T070000
END:DAYLIGHT
BEGIN:STANDARD
TZOFFSETFROM:-0400
TZOFFSETTO:-0500
TZNAME:EST
DTSTART:20251102T060000
END:STANDARD
END:VTIMEZONE
BEGIN:VEVENT
DTSTART;TZID=America/New_York:20241019T150000
DTEND;TZID=America/New_York:20241019T210000
DTSTAMP:20260424T230025
CREATED:20240618T001957Z
LAST-MODIFIED:20240618T002109Z
UID:9711-1729350000-1729371600@purewellnessbody.com
SUMMARY:FAB Festival in Downtown Reidsville
DESCRIPTION:Reidsville FAB Festival – Join us for our annual Food\, Art and Brew Festival featuring The Band of Oz! The fun starts at 11am with the band going on strong from 5-7pm. Bring your family and friends and enjoy the show. Free festival! \nEnjoy watching the Bank of Oz playing in downtown Reidsville marketplace. \nSaturday\, October 19\, 2024\nFood\, Art & Brew\n3pm-9pm\nReidsville\, NC
URL:https://purewellnessbody.com/event/fab-festival/
LOCATION:Reidsville Chamber of Commerce\, 303 S. Scales St Reidsville NC\, Reidsville
CATEGORIES:Bands and music,Food Trucks,Pure Wellness Body & Health,Shopping
END:VEVENT
END:VCALENDAR