BEGIN:VCALENDAR
VERSION:2.0
PRODID:-//Pure Wellness Body And Health - ECPv6.15.20//NONSGML v1.0//EN
CALSCALE:GREGORIAN
METHOD:PUBLISH
X-WR-CALNAME:Pure Wellness Body And Health
X-ORIGINAL-URL:https://purewellnessbody.com
X-WR-CALDESC:Events for Pure Wellness Body And Health
REFRESH-INTERVAL;VALUE=DURATION:PT1H
X-Robots-Tag:noindex
X-PUBLISHED-TTL:PT1H
BEGIN:VTIMEZONE
TZID:America/New_York
BEGIN:DAYLIGHT
TZOFFSETFROM:-0500
TZOFFSETTO:-0400
TZNAME:EDT
DTSTART:20230312T070000
END:DAYLIGHT
BEGIN:STANDARD
TZOFFSETFROM:-0400
TZOFFSETTO:-0500
TZNAME:EST
DTSTART:20231105T060000
END:STANDARD
BEGIN:DAYLIGHT
TZOFFSETFROM:-0500
TZOFFSETTO:-0400
TZNAME:EDT
DTSTART:20240310T070000
END:DAYLIGHT
BEGIN:STANDARD
TZOFFSETFROM:-0400
TZOFFSETTO:-0500
TZNAME:EST
DTSTART:20241103T060000
END:STANDARD
BEGIN:DAYLIGHT
TZOFFSETFROM:-0500
TZOFFSETTO:-0400
TZNAME:EDT
DTSTART:20250309T070000
END:DAYLIGHT
BEGIN:STANDARD
TZOFFSETFROM:-0400
TZOFFSETTO:-0500
TZNAME:EST
DTSTART:20251102T060000
END:STANDARD
END:VTIMEZONE
BEGIN:VEVENT
DTSTART;TZID=America/New_York:20241205T180000
DTEND;TZID=America/New_York:20241205T210000
DTSTAMP:20260424T232246
CREATED:20240710T145238Z
LAST-MODIFIED:20240710T145426Z
UID:9753-1733421600-1733432400@purewellnessbody.com
SUMMARY:Ladies Night - Sip & Shop at Golden Antiques
DESCRIPTION:Special Vendors\, Fabulous Finds\, Delicious Food and over 30 Door Prices you can pick from.  Free food\, deserts\, wine and Christmas music. \nCome sip and shop from 6pm to 9pm and bring your friends! \nAt Golden Antiques Mall in Summerfield\, NC right off HW 220.
URL:https://purewellnessbody.com/event/ladies-night-sip-shop-at-golden-antiques/
LOCATION:Golden Antiques\, 4537 US HW 220\, Summerfield\, NC
CATEGORIES:Antiques,Door Prizes,Free food and winie,Pure Wellness Body & Health,Shopping
END:VEVENT
BEGIN:VEVENT
DTSTART;TZID=America/New_York:20241109T110000
DTEND;TZID=America/New_York:20241109T160000
DTSTAMP:20260424T232246
CREATED:20240710T145838Z
LAST-MODIFIED:20240710T145949Z
UID:9760-1731150000-1731168000@purewellnessbody.com
SUMMARY:Mistletoe Market at Golden Antiques Mall in Summerfield
DESCRIPTION:A fun Outdoor/Indoor event with 30 plus Crafters\, Artisans\, and Unique gift vendors helping you to check off that Christmas List! You will easily get that Christmas Spirit going with all the Delicious Food\, Music\, and a Special Visit from Santa Claus!  Enjoy the Christmas music\, themed decor\, and lots of last-minute shopping for the holidays.   \nCome visit the Pure Wellness Body & Health pop up store booth here at Golden Antiques Mall in Summerfield.  Open from 10:30am – 4:30pm.
URL:https://purewellnessbody.com/event/mistletoe-market-at-golden-antiques-mall-in-summerfield/
LOCATION:Golden Antiques\, 4537 US HW 220\, Summerfield\, NC
CATEGORIES:Antiques,Food Trucks,Holiday Theme,Pure Wellness Body & Health,Shopping,Specialty Foods
END:VEVENT
BEGIN:VEVENT
DTSTART;TZID=America/New_York:20240427T100000
DTEND;TZID=America/New_York:20240427T170000
DTSTAMP:20260424T232246
CREATED:20240321T230137Z
LAST-MODIFIED:20240321T230158Z
UID:9584-1714212000-1714237200@purewellnessbody.com
SUMMARY:Spring into Madison Festival\, Downtown Madison
DESCRIPTION:Artisans\, Antiques\, Food\, Crafters\, Music – Sponsored by the downtown Madison Merchants Guild \nLocated in downtown Madison\, NC. 10am – 5pm Saturday\, April 27th \nLots of fun and lots of shopping opportunities. Come see our Pure Wellness Body & Health booth near Rachel Blue’s Boutique on main street\, one of favorite vintage retail stores that carry Pure Wellness Body products. \n\n\n\nOur booth will be in front of Rachel Blue Boutique at:\n126 West Murphy St\, Madison\, NC\, United States\, North Carolina
URL:https://purewellnessbody.com/event/spring-into-madison-festival/
LOCATION:Downtown Madision\, North Carolina\, 126 West Murphy St\, Madison\, NC\, United States\, North Carolina
CATEGORIES:Antiques,Baked Goods,Craft Event,Kids Game Area,Music,Pure Wellness Body & Health,Shopping
END:VEVENT
END:VCALENDAR