BEGIN:VCALENDAR
VERSION:2.0
PRODID:-//Pure Wellness Body And Health - ECPv6.15.20//NONSGML v1.0//EN
CALSCALE:GREGORIAN
METHOD:PUBLISH
X-ORIGINAL-URL:https://purewellnessbody.com
X-WR-CALDESC:Events for Pure Wellness Body And Health
REFRESH-INTERVAL;VALUE=DURATION:PT1H
X-Robots-Tag:noindex
X-PUBLISHED-TTL:PT1H
BEGIN:VTIMEZONE
TZID:America/New_York
BEGIN:DAYLIGHT
TZOFFSETFROM:-0500
TZOFFSETTO:-0400
TZNAME:EDT
DTSTART:20250309T070000
END:DAYLIGHT
BEGIN:STANDARD
TZOFFSETFROM:-0400
TZOFFSETTO:-0500
TZNAME:EST
DTSTART:20251102T060000
END:STANDARD
BEGIN:DAYLIGHT
TZOFFSETFROM:-0500
TZOFFSETTO:-0400
TZNAME:EDT
DTSTART:20260308T070000
END:DAYLIGHT
BEGIN:STANDARD
TZOFFSETFROM:-0400
TZOFFSETTO:-0500
TZNAME:EST
DTSTART:20261101T060000
END:STANDARD
BEGIN:DAYLIGHT
TZOFFSETFROM:-0500
TZOFFSETTO:-0400
TZNAME:EDT
DTSTART:20270314T070000
END:DAYLIGHT
BEGIN:STANDARD
TZOFFSETFROM:-0400
TZOFFSETTO:-0500
TZNAME:EST
DTSTART:20271107T060000
END:STANDARD
END:VTIMEZONE
BEGIN:VEVENT
DTSTART;TZID=America/New_York:20261031T100000
DTEND;TZID=America/New_York:20261031T160000
DTSTAMP:20260425T090147
CREATED:20230413T231814Z
LAST-MODIFIED:20260324T160255Z
UID:7514-1793440800-1793462400@purewellnessbody.com
SUMMARY:Pittsboro Street Fair
DESCRIPTION:Outdoor event with unique juried handmade craft vendors through the main downtown street of Pittsboro\, NC. \nThis fun event offers band music throughout the day\, kids’ carnival and rides\, food trucks\, and a host of really creative artists and vendors. Don’t miss it\, mark your calendars and bring your friends!
URL:https://purewellnessbody.com/event/pittsboro-street-fair/
LOCATION:Pittsboro downtown\, Pittsboro\, NC
CATEGORIES:Baked Goods,Bands and music,Bounce House,Carnaval foods,Craft Event,Food Trucks,Hand made crafts,Health & wellness booths,Pure Wellness Body & Health,Shopping,Shows & Entertainment
ATTACH;FMTTYPE=image/jpeg:https://purewellnessbody.com/wp-content/uploads/2023/04/pittsboro-street-fair-3724778832.jpg
END:VEVENT
END:VCALENDAR